BEGIN:VCALENDAR
VERSION:2.0
PRODID:-//jEvents 2.0 for Joomla//EN
CALSCALE:GREGORIAN
METHOD:PUBLISH
BEGIN:VEVENT
UID:a2d010ed726568cf6b39dcc4698741f0
CATEGORIES:DPSG - Kirchdorf
CREATED:20151220T105959
SUMMARY:Stammeswochenende - Simbacher Hütte
LOCATION:Simbacher Hütte
DESCRIPTION:Stammeswochenende auf der Simbacher Hütte\n
X-ALT-DESC;FMTTYPE=text/html:<p>Stammeswochenende auf der Simbacher Hütte</p>
DTSTAMP:20260422T012932
DTSTART:20160715T160000
DTEND:20160717T130000
SEQUENCE:0
TRANSP:OPAQUE
END:VEVENT
END:VCALENDAR