BEGIN:VCALENDAR
VERSION:2.0
PRODID:-//jEvents 2.0 for Joomla//EN
CALSCALE:GREGORIAN
METHOD:PUBLISH
BEGIN:VEVENT
UID:f9c808a396690e83640948cae8825435
CATEGORIES:Leiterrunde
CREATED:20151220T110412
SUMMARY:Leiterklausur
LOCATION:Im Bulldogstüberl beim Miche.
DESCRIPTION:Leiterklausur\n
X-ALT-DESC;FMTTYPE=text/html:<p>Leiterklausur</p>
DTSTAMP:20260425T131331
DTSTART;VALUE=DATE:20161022
DTEND;VALUE=DATE:20161024
SEQUENCE:0
TRANSP:OPAQUE
END:VEVENT
END:VCALENDAR