BEGIN:VCALENDAR
VERSION:2.0
PRODID:-//jEvents 2.0 for Joomla//EN
CALSCALE:GREGORIAN
METHOD:PUBLISH
BEGIN:VEVENT
UID:fca0284c0e5ecb052f9a8af1c72904a7
CATEGORIES:DPSG - Kirchdorf
CREATED:20141026T183345
SUMMARY:Stammesversammlung
LOCATION:Kirchdorf
DESCRIPTION:Stammesversammlung\n
X-ALT-DESC;FMTTYPE=text/html:<p>Stammesversammlung</p>
DTSTAMP:20260422T014753
DTSTART;VALUE=DATE:20151114
DTEND;VALUE=DATE:20151115
SEQUENCE:0
TRANSP:OPAQUE
END:VEVENT
END:VCALENDAR