BEGIN:VCALENDAR
VERSION:2.0
PRODID:-//jEvents 2.0 for Joomla//EN
CALSCALE:GREGORIAN
METHOD:PUBLISH
BEGIN:VEVENT
UID:d114fe215abb052a335c3088d617fa01
CATEGORIES:Pfadis
CREATED:20161210T102839
SUMMARY:Pfadi-Bayernlager
DESCRIPTION:
DTSTAMP:20260422T082225
DTSTART;VALUE=DATE:20170610
DTEND;VALUE=DATE:20170618
SEQUENCE:0
TRANSP:OPAQUE
END:VEVENT
END:VCALENDAR