BEGIN:VCALENDAR
VERSION:2.0
PRODID:-//jEvents 2.0 for Joomla//EN
CALSCALE:GREGORIAN
METHOD:PUBLISH
BEGIN:VEVENT
UID:1565fef120c5b933a8c09b344a3fd949
CATEGORIES:DPSG - Kirchdorf
CREATED:20171026T185356
SUMMARY:Weihnachtsbaum-Sammelaktion
LOCATION:Kirchdorf\, Julbach\, Simbach und Umgebung
DESCRIPTION:Weihnachtsbaum-Sammelaktion\n
X-ALT-DESC;FMTTYPE=text/html:<p>Weihnachtsbaum-Sammelaktion</p>
X-EXTRAINFO:Bitte Anmeldeschluss beachten!
DTSTAMP:20260424T220944
DTSTART:20180113T070000
SEQUENCE:0
TRANSP:OPAQUE
END:VEVENT
END:VCALENDAR