BEGIN:VCALENDAR
VERSION:2.0
PRODID:-//jEvents 2.0 for Joomla//EN
CALSCALE:GREGORIAN
METHOD:PUBLISH
BEGIN:VEVENT
UID:b333a6d83db9dc8f374d8c7acc8ea3e7
CATEGORIES:DPSG - Kirchdorf
CREATED:20171026T185650
SUMMARY:Nikolausaktion
LOCATION:Kirchdorf\, Julbach\, Simbach und Umgebung
DESCRIPTION:Nikolausaktion\n
X-ALT-DESC;FMTTYPE=text/html:<p>Nikolausaktion</p>
X-EXTRAINFO:Bitte Anmeldeschluss beachten!
DTSTAMP:20260425T053622
DTSTART;VALUE=DATE:20171205
DTEND;VALUE=DATE:20171206
SEQUENCE:0
TRANSP:OPAQUE
END:VEVENT
END:VCALENDAR