BEGIN:VCALENDAR
VERSION:2.0
PRODID:-//jEvents 2.0 for Joomla//EN
CALSCALE:GREGORIAN
METHOD:PUBLISH
BEGIN:VEVENT
UID:6ac6919edca89aecbc4c145cb1dfa0fd
CATEGORIES:DPSG - Kirchdorf
CREATED:20171026T185707
SUMMARY:Nikolausaktion
LOCATION:Kirchdorf\, Julbach\, Simbach und Umgebung
DESCRIPTION:<p>Nikolausaktion</p>
X-EXTRAINFO:Bitte Anmeldeschluss beachten!
DTSTAMP:20260425T042003
DTSTART;VALUE=DATE:20181205
DTEND;VALUE=DATE:20181207
SEQUENCE:0
TRANSP:OPAQUE
END:VEVENT
END:VCALENDAR