BEGIN:VCALENDAR
VERSION:2.0
PRODID:-//jEvents 2.0 for Joomla//EN
CALSCALE:GREGORIAN
METHOD:PUBLISH
BEGIN:VEVENT
UID:063734f842ec49b9f70ca4b197b36245
CATEGORIES:Leiterrunde
CREATED:20171026T185736
SUMMARY:Leiterrundenausflug
LOCATION:München
DESCRIPTION:Leiterrundenausflug\n
X-ALT-DESC;FMTTYPE=text/html:<p>Leiterrundenausflug</p>
DTSTAMP:20260425T054205
DTSTART;VALUE=DATE:20171209
DTEND;VALUE=DATE:20171210
SEQUENCE:0
TRANSP:OPAQUE
END:VEVENT
END:VCALENDAR