BEGIN:VCALENDAR
VERSION:2.0
PRODID:-//jEvents 2.0 for Joomla//EN
CALSCALE:GREGORIAN
METHOD:PUBLISH
BEGIN:VEVENT
UID:39685a754bb78b5c5a4ef81f8dd8d033
CATEGORIES:DPSG - Kirchdorf
CREATED:20171026T185838
SUMMARY:Weihnachtsmarkt
LOCATION:Kirchdorf
DESCRIPTION:
DTSTAMP:20260425T053755
DTSTART;VALUE=DATE:20171216
DTEND;VALUE=DATE:20171217
SEQUENCE:0
TRANSP:OPAQUE
END:VEVENT
END:VCALENDAR