BEGIN:VCALENDAR
VERSION:2.0
PRODID:-//jEvents 2.0 for Joomla//EN
CALSCALE:GREGORIAN
METHOD:PUBLISH
BEGIN:VEVENT
UID:30e4bb445e49e8bed2f7679bcd7777c1
CATEGORIES:Wölflinge
CREATED:20171026T190118
SUMMARY:Wölflings - Völkerballturnier
LOCATION:Passau - Turnhalle Oberhaus
DESCRIPTION:<p>W&ouml;lflings - V&ouml;lkerballturnier der Di&ouml;zese</p>
DTSTAMP:20260425T030715
DTSTART;VALUE=DATE:20180217
DTEND;VALUE=DATE:20180218
SEQUENCE:0
TRANSP:OPAQUE
END:VEVENT
END:VCALENDAR