BEGIN:VCALENDAR
VERSION:2.0
PRODID:-//jEvents 2.0 for Joomla//EN
CALSCALE:GREGORIAN
METHOD:PUBLISH
BEGIN:VEVENT
UID:b92ef61786999fa4d48b6523a1f9f893
CATEGORIES:DPSG - Kirchdorf
CREATED:20171026T190429
SUMMARY:Stammeslager
DESCRIPTION:Stammeslager\n
X-ALT-DESC;FMTTYPE=text/html:<p>Stammeslager</p>
DTSTAMP:20260422T033007
DTSTART;VALUE=DATE:20180530
DTEND;VALUE=DATE:20180603
SEQUENCE:0
TRANSP:OPAQUE
END:VEVENT
END:VCALENDAR