BEGIN:VCALENDAR
VERSION:2.0
PRODID:-//jEvents 2.0 for Joomla//EN
CALSCALE:GREGORIAN
METHOD:PUBLISH
BEGIN:VEVENT
UID:b8441e621afc9773b6b0de714244b893
CATEGORIES:Wölflinge
CREATED:20180216T174029
SUMMARY:Diözesan-Wölflingswochenende
DESCRIPTION:<p>k. A.</p>
DTSTAMP:20260422T082311
DTSTART;VALUE=DATE:20180511
DTEND;VALUE=DATE:20180514
SEQUENCE:0
TRANSP:OPAQUE
END:VEVENT
END:VCALENDAR