BEGIN:VCALENDAR
VERSION:2.0
PRODID:-//jEvents 2.0 for Joomla//EN
CALSCALE:GREGORIAN
METHOD:PUBLISH
BEGIN:VEVENT
UID:063e07ff5e74accd91763425830cde90
CATEGORIES:Leiterrunde
CREATED:19700101T010000
SUMMARY:Leiterrunde
LOCATION:Pfarrzentrum Kirchdorf (soweit nicht anders vereinbart)
DESCRIPTION:
DTSTAMP:20260422T041052
DTSTART:20180817T173000
DTEND:20180817T200000
SEQUENCE:0
RRULE:FREQ=WEEKLY;UNTIL=20180818T000000Z;INTERVAL=2;BYDAY=FR
TRANSP:OPAQUE
END:VEVENT
END:VCALENDAR