BEGIN:VCALENDAR
VERSION:2.0
PRODID:-//jEvents 2.0 for Joomla//EN
CALSCALE:GREGORIAN
METHOD:PUBLISH
BEGIN:VEVENT
UID:618b3946cd5d8157d6bff4e87509fea3
CATEGORIES:Wölflinge
CREATED:20141026T183850
SUMMARY:Wölflingsbayernlager
LOCATION:k. A.
DESCRIPTION:Wölflingsbayernlager\n
X-ALT-DESC;FMTTYPE=text/html:<p>Wölflingsbayernlager</p>
DTSTAMP:20260422T032912
DTSTART;VALUE=DATE:20150601
DTEND;VALUE=DATE:20150607
SEQUENCE:0
TRANSP:OPAQUE
END:VEVENT
END:VCALENDAR