BEGIN:VCALENDAR
VERSION:2.0
PRODID:-//jEvents 2.0 for Joomla//EN
CALSCALE:GREGORIAN
METHOD:PUBLISH
BEGIN:VEVENT
UID:db184120e62c2b4eb0c70a4789b7349b
CATEGORIES:Leiterrunde
CREATED:19700101T010000
SUMMARY:Leiterrunde
LOCATION:Pfarrzentrum Kirchdorf (soweit nicht anders vereinbart)
DESCRIPTION:
DTSTAMP:20260422T043906
DTSTART:20180105T183000
DTEND:20180105T210000
SEQUENCE:0
RRULE:FREQ=WEEKLY;UNTIL=20180728T000000Z;INTERVAL=2;BYDAY=FR
TRANSP:OPAQUE
END:VEVENT
END:VCALENDAR