BEGIN:VCALENDAR
VERSION:2.0
PRODID:-//jEvents 2.0 for Joomla//EN
CALSCALE:GREGORIAN
METHOD:PUBLISH
BEGIN:VEVENT
UID:1516787cb43f9ec5f3e59a7dccec3d67
CATEGORIES:DPSG - Kirchdorf
CREATED:20181209T085625
SUMMARY:Weihnachtsmarkt
LOCATION:Kirchdorf - Wirt's Kathi
DESCRIPTION:Weihnachtsmarkt\n
X-ALT-DESC;FMTTYPE=text/html:<p>Weihnachtsmarkt</p>
DTSTAMP:20260425T025945
DTSTART;VALUE=DATE:20181215
DTEND;VALUE=DATE:20181216
SEQUENCE:0
TRANSP:OPAQUE
END:VEVENT
END:VCALENDAR