BEGIN:VCALENDAR
VERSION:2.0
PRODID:-//jEvents 2.0 for Joomla//EN
CALSCALE:GREGORIAN
METHOD:PUBLISH
BEGIN:VEVENT
UID:b43c5de3030eb1fefeca3c8c034b76c6
CATEGORIES:DPSG - Kirchdorf
CREATED:20181230T105402
SUMMARY:Weihnachtsbaum-Sammelaktion
LOCATION:Kirchdorf\, Julbach\, Simbach und Umgebung
DESCRIPTION:Weihnachtsbaum-Sammelaktion\n
X-ALT-DESC;FMTTYPE=text/html:<p>Weihnachtsbaum-Sammelaktion</p>
X-EXTRAINFO:Bitte Anmeldeschluss beachten!
DTSTAMP:20260424T232930
DTSTART:20190112T070000
SEQUENCE:0
TRANSP:OPAQUE
END:VEVENT
END:VCALENDAR