BEGIN:VCALENDAR
VERSION:2.0
PRODID:-//jEvents 2.0 for Joomla//EN
CALSCALE:GREGORIAN
METHOD:PUBLISH
BEGIN:VEVENT
UID:8d4ab6c1f8bc5bebfefc1514e0cac487
CATEGORIES:DPSG - Kirchdorf
CREATED:20141026T193617
SUMMARY:Stammeslager
LOCATION:k. A.
DESCRIPTION:Stammeslager\n
X-ALT-DESC;FMTTYPE=text/html:<p>Stammeslager</p>
DTSTAMP:20260425T131306
DTSTART;VALUE=DATE:20150802
DTEND;VALUE=DATE:20150808
SEQUENCE:0
TRANSP:OPAQUE
END:VEVENT
END:VCALENDAR