BEGIN:VCALENDAR
VERSION:2.0
PRODID:-//jEvents 2.0 for Joomla//EN
CALSCALE:GREGORIAN
METHOD:PUBLISH
BEGIN:VEVENT
UID:87add084bbad168dc316803cffd054f3
CATEGORIES:Leiterrunde
CREATED:20181230T110212
SUMMARY:Leiterklausur
DESCRIPTION:
DTSTAMP:20260425T000304
DTSTART;VALUE=DATE:20191018
DTEND;VALUE=DATE:20191021
SEQUENCE:0
TRANSP:OPAQUE
END:VEVENT
END:VCALENDAR