BEGIN:VCALENDAR
VERSION:2.0
PRODID:-//jEvents 2.0 for Joomla//EN
CALSCALE:GREGORIAN
METHOD:PUBLISH
BEGIN:VEVENT
UID:6e565b5df235af5eac2cfec21be71374
CATEGORIES:DPSG - Kirchdorf
CREATED:20181230T110507
SUMMARY:Pfarrfest
DESCRIPTION:<p>Pfarrfest der Pfarrei Kirchdorf am Inn</p>
DTSTAMP:20260422T062504
DTSTART;VALUE=DATE:20190630
DTEND;VALUE=DATE:20190701
SEQUENCE:0
TRANSP:OPAQUE
END:VEVENT
END:VCALENDAR