BEGIN:VCALENDAR
VERSION:2.0
PRODID:-//jEvents 2.0 for Joomla//EN
CALSCALE:GREGORIAN
METHOD:PUBLISH
BEGIN:VEVENT
UID:a4aa0c14649f07fc971a016be7402fa0
CATEGORIES:DPSG - Kirchdorf
CREATED:20181230T110645
SUMMARY:Mitglieder-Sommerfest des DPSG Stammes Kirchdorf
LOCATION:am Pfarrzentrum Kirchdorf
DESCRIPTION:Sommerfest für alle Mitglieder, Eltern und geladene Gäste\n
X-ALT-DESC;FMTTYPE=text/html:<p>Sommerfest für alle Mitglieder, Eltern und geladene Gäste</p>
DTSTAMP:20260422T062401
DTSTART;VALUE=DATE:20190629
DTEND;VALUE=DATE:20190630
SEQUENCE:0
TRANSP:OPAQUE
END:VEVENT
END:VCALENDAR