BEGIN:VCALENDAR
VERSION:2.0
PRODID:-//jEvents 2.0 for Joomla//EN
CALSCALE:GREGORIAN
METHOD:PUBLISH
BEGIN:VEVENT
UID:0d61c002e67c0d87d150dbda93463cb3
CATEGORIES:DPSG - Kirchdorf
CREATED:20191101T113221
SUMMARY:Nikolausaktion
LOCATION:Kirchdorf\, Simbach\, Julbach und Umgebung
DESCRIPTION:
DTSTAMP:20260425T042003
DTSTART;VALUE=DATE:20191205
DTEND;VALUE=DATE:20191207
SEQUENCE:0
TRANSP:OPAQUE
END:VEVENT
END:VCALENDAR