BEGIN:VCALENDAR
VERSION:2.0
PRODID:-//jEvents 2.0 for Joomla//EN
CALSCALE:GREGORIAN
METHOD:PUBLISH
BEGIN:VEVENT
UID:655118355a6348e8543300666ad0008b
CATEGORIES:DPSG - Kirchdorf
CREATED:20191101T113248
SUMMARY:Weihnachtsmarkt
LOCATION:Kirchdorf 
DESCRIPTION:
DTSTAMP:20260425T042014
DTSTART;VALUE=DATE:20191214
DTEND;VALUE=DATE:20191215
SEQUENCE:0
TRANSP:OPAQUE
END:VEVENT
END:VCALENDAR