BEGIN:VCALENDAR
VERSION:2.0
PRODID:-//jEvents 2.0 for Joomla//EN
CALSCALE:GREGORIAN
METHOD:PUBLISH
BEGIN:VEVENT
UID:2be2563607f0d9bf3c8a4444701bed5a
CATEGORIES:DPSG - Kirchdorf
CREATED:20141026T193813
SUMMARY:Stammesversammlung
LOCATION:Kirchdorf
DESCRIPTION:Stammesversammlung\n
X-ALT-DESC;FMTTYPE=text/html:<p>Stammesversammlung</p>
DTSTAMP:20260421T202910
DTSTART:20141108T140000
SEQUENCE:0
TRANSP:OPAQUE
END:VEVENT
END:VCALENDAR