BEGIN:VCALENDAR
VERSION:2.0
PRODID:-//jEvents 2.0 for Joomla//EN
CALSCALE:GREGORIAN
METHOD:PUBLISH
BEGIN:VEVENT
UID:7b42b4a7bf2cfaf1d502ddbe4c39558a
CATEGORIES:Leiterrunde
CREATED:20191101T113539
SUMMARY:Leiterklausur
DESCRIPTION:
DTSTAMP:20260425T000228
DTSTART;VALUE=DATE:20191016
DTEND;VALUE=DATE:20191019
SEQUENCE:0
TRANSP:OPAQUE
END:VEVENT
END:VCALENDAR