BEGIN:VCALENDAR
VERSION:2.0
PRODID:-//jEvents 2.0 for Joomla//EN
CALSCALE:GREGORIAN
METHOD:PUBLISH
BEGIN:VEVENT
UID:d10d069b019ecaa9b8757b92187fd3a2
CATEGORIES:Leiterrunde
CREATED:19700101T010000
SUMMARY:Leiterrunde
LOCATION:Pfarrzentrum (soweit nicht anders vereinbart)
DESCRIPTION:<p>Leiterrunde</p>
DTSTAMP:20260421T212846
DTSTART:20141017T173000
DTEND:20141017T200000
SEQUENCE:0
RRULE:FREQ=WEEKLY;UNTIL=20150101T000000Z;INTERVAL=2;BYDAY=FR
TRANSP:OPAQUE
END:VEVENT
END:VCALENDAR