BEGIN:VCALENDAR
VERSION:2.0
PRODID:-//jEvents 2.0 for Joomla//EN
CALSCALE:GREGORIAN
METHOD:PUBLISH
BEGIN:VEVENT
UID:383686cb77a84eede3944bcdacdacefa
CATEGORIES:Leiterrunde
CREATED:20191101T114116
SUMMARY:Leiterrundenausflug
DESCRIPTION:
DTSTAMP:20260424T220749
DTSTART;VALUE=DATE:20201002
DTEND;VALUE=DATE:20201005
SEQUENCE:0
TRANSP:OPAQUE
END:VEVENT
END:VCALENDAR