BEGIN:VCALENDAR
VERSION:2.0
PRODID:-//jEvents 2.0 for Joomla//EN
CALSCALE:GREGORIAN
METHOD:PUBLISH
BEGIN:VEVENT
UID:6661f3fb31a485d1fe67c0a293a9da1e
CATEGORIES:DPSG - Kirchdorf
CREATED:20191101T114520
SUMMARY:Weihnachtsbaum-Sammelaktion
LOCATION:Kirchdorf\, Julbach\, Simbach und Umgebung
DESCRIPTION:
DTSTAMP:20260425T030220
DTSTART;VALUE=DATE:20200111
DTEND;VALUE=DATE:20200112
SEQUENCE:0
TRANSP:OPAQUE
END:VEVENT
END:VCALENDAR