BEGIN:VCALENDAR
VERSION:2.0
PRODID:-//jEvents 2.0 for Joomla//EN
CALSCALE:GREGORIAN
METHOD:PUBLISH
BEGIN:VEVENT
UID:64376780a786483976d41459907b5175
CATEGORIES:DPSG - Diözese Passau
CREATED:20141026T194213
SUMMARY:Diözesanversammlung DPSG
LOCATION:Passau
DESCRIPTION:Diözesanversammlung der DPSG-Passau\n
X-ALT-DESC;FMTTYPE=text/html:<p>Diözesanversammlung der DPSG-Passau</p>
DTSTAMP:20260421T222936
DTSTART;VALUE=DATE:20141121
DTEND;VALUE=DATE:20141124
SEQUENCE:0
TRANSP:OPAQUE
END:VEVENT
END:VCALENDAR