BEGIN:VCALENDAR
VERSION:2.0
PRODID:-//jEvents 2.0 for Joomla//EN
CALSCALE:GREGORIAN
METHOD:PUBLISH
BEGIN:VEVENT
UID:30d293ad180c13b2d9df1d341e77f60e
CATEGORIES:Leiterrunde
CREATED:19700101T010000
SUMMARY:Leiterrunde
LOCATION:im Pfarrzentrum (soweit nicht anders vereinbart)
DESCRIPTION:
DTSTAMP:20260422T011217
DTSTART:20150102T183000
SEQUENCE:0
RRULE:FREQ=WEEKLY;UNTIL=20150516T000000Z;INTERVAL=2;BYDAY=FR
TRANSP:OPAQUE
END:VEVENT
END:VCALENDAR