BEGIN:VCALENDAR
VERSION:2.0
PRODID:-//jEvents 2.0 for Joomla//EN
CALSCALE:GREGORIAN
METHOD:PUBLISH
BEGIN:VEVENT
UID:3036c5eb088edae10aab24ebf2bb8daa
CATEGORIES:DPSG - Kirchdorf
CREATED:20150225T220338
SUMMARY:Infovortrag - Wie packe ich meinen Rucksack
LOCATION:Pfarrzentrum Kirchdorf
DESCRIPTION:Infovortrag zum Thema - Wie packe ich meinen Rucksack?\nAnmeldung, über ver
 schickte Einladung, bis zum 05.03.2015!\n
X-ALT-DESC;FMTTYPE=text/html:<p>Infovortrag zum Thema - Wie packe ich meinen Rucksack?</p><p>Anmeldung, 
 über verschickte Einladung, bis zum 05.03.2015!</p>
DTSTAMP:20260425T103245
DTSTART:20150314T170000
SEQUENCE:0
TRANSP:OPAQUE
END:VEVENT
END:VCALENDAR