BEGIN:VCALENDAR
VERSION:2.0
PRODID:-//jEvents 2.0 for Joomla//EN
CALSCALE:GREGORIAN
METHOD:PUBLISH
BEGIN:VEVENT
UID:c7234cfa29d52788616741add7de80e2
CATEGORIES:Leiterrunde
CREATED:19700101T010000
SUMMARY:Leiterrunde
LOCATION:im Pfarrzentrum (soweit nicht anders vereinbart)
DESCRIPTION:
DTSTAMP:20260421T212715
DTSTART:20150529T173000
SEQUENCE:0
RRULE:FREQ=WEEKLY;UNTIL=20151212T000000Z;INTERVAL=2;BYDAY=FR
TRANSP:OPAQUE
END:VEVENT
END:VCALENDAR