BEGIN:VCALENDAR
VERSION:2.0
PRODID:-//jEvents 2.0 for Joomla//EN
CALSCALE:GREGORIAN
METHOD:PUBLISH
BEGIN:VEVENT
UID:4c94a64f83199fbed7258e1f555d95d2
CATEGORIES:DPSG - Kirchdorf
CREATED:20151220T103527
SUMMARY:Nikolausaktion
LOCATION:Kirchdorf\, Julbach\, Simbach und Umgebung
DESCRIPTION:<p>Nikolausaktion</p>
X-EXTRAINFO:Bitte Anmeldeschluss beachten!
DTSTAMP:20260426T052110
DTSTART;VALUE=DATE:20151205
DTEND;VALUE=DATE:20151206
SEQUENCE:0
TRANSP:OPAQUE
END:VEVENT
END:VCALENDAR