BEGIN:VCALENDAR
VERSION:2.0
PRODID:-//jEvents 2.0 for Joomla//EN
CALSCALE:GREGORIAN
METHOD:PUBLISH
BEGIN:VEVENT
UID:a6fe463a60ced026fa5712e04f158340
CATEGORIES:DPSG - Kirchdorf
CREATED:20141026T182856
SUMMARY:Nikolausaktion
LOCATION:Kirchdorf\, Julbach\, Simbach und Umgebung
DESCRIPTION:<p>Nikolausaktion</p>
X-EXTRAINFO:Bitte Anmeldeschluss beachten!
DTSTAMP:20260422T031252
DTSTART;VALUE=DATE:20141205
DTEND;VALUE=DATE:20141207
SEQUENCE:0
TRANSP:OPAQUE
END:VEVENT
END:VCALENDAR