BEGIN:VCALENDAR
VERSION:2.0
PRODID:-//jEvents 2.0 for Joomla//EN
CALSCALE:GREGORIAN
METHOD:PUBLISH
BEGIN:VEVENT
UID:e59d955f4adddf632b5d6f2cab1857fb
CATEGORIES:DPSG - Kirchdorf
CREATED:20151220T105712
SUMMARY:BMW 02er Treffen
LOCATION:Kirchdorf
DESCRIPTION:
DTSTAMP:20260421T235714
DTSTART;VALUE=DATE:20160813
DTEND;VALUE=DATE:20160814
SEQUENCE:0
TRANSP:OPAQUE
END:VEVENT
END:VCALENDAR