BEGIN:VCALENDAR
VERSION:2.0
PRODID:-//jEvents 2.0 for Joomla//EN
CALSCALE:GREGORIAN
METHOD:PUBLISH
BEGIN:VEVENT
UID:586ced16e9951877a1bfd18890edeff6
CATEGORIES:DPSG - Kirchdorf
CREATED:20151220T105752
SUMMARY:Stammesversammlung
LOCATION:Kirchdorf
DESCRIPTION:Stammesversammlung\n
X-ALT-DESC;FMTTYPE=text/html:<p>Stammesversammlung</p>
DTSTAMP:20260422T023740
DTSTART:20161112T140000
DTEND:20161112T170000
SEQUENCE:0
TRANSP:OPAQUE
END:VEVENT
END:VCALENDAR