BEGIN:VCALENDAR
VERSION:2.0
PRODID:-//jEvents 2.0 for Joomla//EN
CALSCALE:GREGORIAN
METHOD:PUBLISH
BEGIN:VEVENT
UID:a6308ec3af9f082c449194913fbf3c45
CATEGORIES:Leiterrunde
CREATED:20180923T111609
SUMMARY:Leiterrunde
LOCATION:Pfarrzentrum Kirchdorf (soweit nicht anders vereinbart)
DESCRIPTION:
DTSTAMP:20260425T011214
DTSTART:20181116T183000
DTEND:20181116T210000
SEQUENCE:0
TRANSP:OPAQUE
END:VEVENT
END:VCALENDAR