BEGIN:VCALENDAR
VERSION:2.0
PRODID:-//jEvents 2.0 for Joomla//EN
CALSCALE:GREGORIAN
METHOD:PUBLISH
BEGIN:VEVENT
UID:db184120e62c2b4eb0c70a4789b7349b
CATEGORIES:Leiterrunde
CREATED:20180923T111501
SUMMARY:Leiterrunde
LOCATION:Pfarrzentrum Kirchdorf (soweit nicht anders vereinbart)
DESCRIPTION:
DTSTAMP:20260422T030918
DTSTART:20180706T173000
DTEND:20180706T200000
SEQUENCE:0
TRANSP:OPAQUE
END:VEVENT
END:VCALENDAR