BEGIN:VCALENDAR
VERSION:2.0
PRODID:-//jEvents 2.0 for Joomla//EN
CALSCALE:GREGORIAN
METHOD:PUBLISH
BEGIN:VEVENT
UID:30d293ad180c13b2d9df1d341e77f60e
CATEGORIES:Leiterrunde
CREATED:20150210T185248
SUMMARY:Leiterrunde
LOCATION:im Pfarrzentrum (soweit nicht anders vereinbart)
DESCRIPTION:
DTSTAMP:20260422T022819
DTSTART:20150130T183000
SEQUENCE:0
TRANSP:OPAQUE
END:VEVENT
END:VCALENDAR