BEGIN:VCALENDAR
VERSION:2.0
PRODID:-//jEvents 2.0 for Joomla//EN
CALSCALE:GREGORIAN
METHOD:PUBLISH
BEGIN:VEVENT
UID:d10d069b019ecaa9b8757b92187fd3a2
CATEGORIES:Leiterrunde
CREATED:20141026T175206
SUMMARY:Leiterrunde
LOCATION:Pfarrzentrum (soweit nicht anders vereinbart)
DESCRIPTION:Leiterrunde\n
X-ALT-DESC;FMTTYPE=text/html:<p>Leiterrunde</p>
DTSTAMP:20260421T202413
DTSTART:20141114T183000
DTEND:20141114T210000
SEQUENCE:0
TRANSP:OPAQUE
END:VEVENT
END:VCALENDAR