BEGIN:VCALENDAR
VERSION:2.0
PRODID:-//jEvents 2.0 for Joomla//EN
CALSCALE:GREGORIAN
METHOD:PUBLISH
BEGIN:VEVENT
UID:c7234cfa29d52788616741add7de80e2
CATEGORIES:Leiterrunde
CREATED:20150602T233511
SUMMARY:Leiterrunde
LOCATION:im Pfarrzentrum (soweit nicht anders vereinbart)
DESCRIPTION:
DTSTAMP:20260422T011120
DTSTART:20151113T183000
SEQUENCE:0
TRANSP:OPAQUE
END:VEVENT
END:VCALENDAR